BEGIN:VCALENDAR
VERSION:2.0
PRODID:-//East Contra Costa Historical Society - ECPv6.15.20//NONSGML v1.0//EN
CALSCALE:GREGORIAN
METHOD:PUBLISH
X-WR-CALNAME:East Contra Costa Historical Society
X-ORIGINAL-URL:https://eastcontracostahistory.org
X-WR-CALDESC:Events for East Contra Costa Historical Society
REFRESH-INTERVAL;VALUE=DURATION:PT1H
X-Robots-Tag:noindex
X-PUBLISHED-TTL:PT1H
BEGIN:VTIMEZONE
TZID:America/Los_Angeles
BEGIN:DAYLIGHT
TZOFFSETFROM:-0800
TZOFFSETTO:-0700
TZNAME:PDT
DTSTART:20240310T100000
END:DAYLIGHT
BEGIN:STANDARD
TZOFFSETFROM:-0700
TZOFFSETTO:-0800
TZNAME:PST
DTSTART:20241103T090000
END:STANDARD
BEGIN:DAYLIGHT
TZOFFSETFROM:-0800
TZOFFSETTO:-0700
TZNAME:PDT
DTSTART:20250309T100000
END:DAYLIGHT
BEGIN:STANDARD
TZOFFSETFROM:-0700
TZOFFSETTO:-0800
TZNAME:PST
DTSTART:20251102T090000
END:STANDARD
BEGIN:DAYLIGHT
TZOFFSETFROM:-0800
TZOFFSETTO:-0700
TZNAME:PDT
DTSTART:20260308T100000
END:DAYLIGHT
BEGIN:STANDARD
TZOFFSETFROM:-0700
TZOFFSETTO:-0800
TZNAME:PST
DTSTART:20261101T090000
END:STANDARD
END:VTIMEZONE
BEGIN:VEVENT
DTSTART;TZID=America/Los_Angeles:20250410T080000
DTEND;TZID=America/Los_Angeles:20250410T130000
DTSTAMP:20260424T073519
CREATED:20250401T030255Z
LAST-MODIFIED:20250401T030255Z
UID:3040-1744272000-1744290000@eastcontracostahistory.org
SUMMARY:Third Grade Program
DESCRIPTION:
URL:https://eastcontracostahistory.org/event/third-grade-program-6/
CATEGORIES:Board
END:VEVENT
BEGIN:VEVENT
DTSTART;TZID=America/Los_Angeles:20250409T100000
DTEND;TZID=America/Los_Angeles:20250409T120000
DTSTAMP:20260424T073519
CREATED:20250401T022141Z
LAST-MODIFIED:20250401T031136Z
UID:3014-1744192800-1744200000@eastcontracostahistory.org
SUMMARY:Intake Meeting
DESCRIPTION:Monthly Intake Meeting
URL:https://eastcontracostahistory.org/event/intake-meeting/
LOCATION:Resource Center
CATEGORIES:Board
END:VEVENT
BEGIN:VEVENT
DTSTART;TZID=America/Los_Angeles:20250408T080000
DTEND;TZID=America/Los_Angeles:20250408T140000
DTSTAMP:20260424T073519
CREATED:20250401T025913Z
LAST-MODIFIED:20250401T025913Z
UID:3036-1744099200-1744120800@eastcontracostahistory.org
SUMMARY:Third Grade Program
DESCRIPTION:
URL:https://eastcontracostahistory.org/event/third-grade-program-4/
CATEGORIES:Board
END:VEVENT
BEGIN:VEVENT
DTSTART;TZID=America/Los_Angeles:20250407T080000
DTEND;TZID=America/Los_Angeles:20250407T140000
DTSTAMP:20260424T073519
CREATED:20250401T025825Z
LAST-MODIFIED:20250401T025948Z
UID:3034-1744012800-1744034400@eastcontracostahistory.org
SUMMARY:Third Grade Program
DESCRIPTION:
URL:https://eastcontracostahistory.org/event/third-grade-program-3/
LOCATION:Grounds
CATEGORIES:Board
END:VEVENT
BEGIN:VEVENT
DTSTART;TZID=America/Los_Angeles:20250405T090000
DTEND;TZID=America/Los_Angeles:20250405T140000
DTSTAMP:20260424T073519
CREATED:20250327T160846Z
LAST-MODIFIED:20250327T160846Z
UID:2998-1743843600-1743861600@eastcontracostahistory.org
SUMMARY:Museum Opening Day
DESCRIPTION:Enjoy a family day of old-fashioned fun! \nStart your morning with a yummy pancake breakfast hosted by Brentwood Lions and Rotary Clubs.\n9:00-12:00  Purchase tickets at the gate\nKids can enjoy a petting zoo of 4-H animals\, sit on the fire truck\, sound the whistle in the caboose.\nAdults can enjoy a stroll through yesteryear in the Byer-Nail House and Homer’s Shed.\nAll can enjoy games on the front lawn and crank ice cream or churn butter at 11:00\nWe hope to see you there!
URL:https://eastcontracostahistory.org/event/museum-opening-day/
LOCATION:Museum
CATEGORIES:Board,Community
ATTACH;FMTTYPE=image/jpeg:https://eastcontracostahistory.org/wp-content/uploads/2025/03/Digital-Ad.jpg
END:VEVENT
BEGIN:VEVENT
DTSTART;TZID=America/Los_Angeles:20250404T080000
DTEND;TZID=America/Los_Angeles:20250404T140000
DTSTAMP:20260424T073519
CREATED:20250401T025517Z
LAST-MODIFIED:20250401T025517Z
UID:3032-1743753600-1743775200@eastcontracostahistory.org
SUMMARY:Third Grade Program
DESCRIPTION:
URL:https://eastcontracostahistory.org/event/third-grade-program-2/
LOCATION:Grounds
CATEGORIES:Board
END:VEVENT
BEGIN:VEVENT
DTSTART;TZID=America/Los_Angeles:20250403T140000
DTEND;TZID=America/Los_Angeles:20250403T150000
DTSTAMP:20260424T073519
CREATED:20250401T024104Z
LAST-MODIFIED:20250401T024104Z
UID:3023-1743688800-1743692400@eastcontracostahistory.org
SUMMARY:Exhibit Team Leads Meeting
DESCRIPTION:
URL:https://eastcontracostahistory.org/event/exhibit-team-leads-meeting/
LOCATION:Resource Center
CATEGORIES:Board
END:VEVENT
BEGIN:VEVENT
DTSTART;TZID=America/Los_Angeles:20250403T080000
DTEND;TZID=America/Los_Angeles:20250403T140000
DTSTAMP:20260424T073519
CREATED:20250401T025056Z
LAST-MODIFIED:20250401T025056Z
UID:3030-1743667200-1743688800@eastcontracostahistory.org
SUMMARY:Third Grade Program
DESCRIPTION:
URL:https://eastcontracostahistory.org/event/third-grade-program/
LOCATION:Grounds
CATEGORIES:Board
END:VEVENT
BEGIN:VEVENT
DTSTART;TZID=America/Los_Angeles:20250402T100000
DTEND;TZID=America/Los_Angeles:20250402T120000
DTSTAMP:20260424T073519
CREATED:20250401T021212Z
LAST-MODIFIED:20250401T024850Z
UID:3012-1743588000-1743595200@eastcontracostahistory.org
SUMMARY:Board Meeting
DESCRIPTION:Monthly Board Meeting
URL:https://eastcontracostahistory.org/event/board-meeting/
CATEGORIES:Board
END:VEVENT
END:VCALENDAR