BEGIN:VCALENDAR
VERSION:2.0
PRODID:-//East Contra Costa Historical Society - ECPv6.15.20//NONSGML v1.0//EN
CALSCALE:GREGORIAN
METHOD:PUBLISH
X-WR-CALNAME:East Contra Costa Historical Society
X-ORIGINAL-URL:https://eastcontracostahistory.org
X-WR-CALDESC:Events for East Contra Costa Historical Society
REFRESH-INTERVAL;VALUE=DURATION:PT1H
X-Robots-Tag:noindex
X-PUBLISHED-TTL:PT1H
BEGIN:VTIMEZONE
TZID:America/Los_Angeles
BEGIN:DAYLIGHT
TZOFFSETFROM:-0800
TZOFFSETTO:-0700
TZNAME:PDT
DTSTART:20240310T100000
END:DAYLIGHT
BEGIN:STANDARD
TZOFFSETFROM:-0700
TZOFFSETTO:-0800
TZNAME:PST
DTSTART:20241103T090000
END:STANDARD
BEGIN:DAYLIGHT
TZOFFSETFROM:-0800
TZOFFSETTO:-0700
TZNAME:PDT
DTSTART:20250309T100000
END:DAYLIGHT
BEGIN:STANDARD
TZOFFSETFROM:-0700
TZOFFSETTO:-0800
TZNAME:PST
DTSTART:20251102T090000
END:STANDARD
BEGIN:DAYLIGHT
TZOFFSETFROM:-0800
TZOFFSETTO:-0700
TZNAME:PDT
DTSTART:20260308T100000
END:DAYLIGHT
BEGIN:STANDARD
TZOFFSETFROM:-0700
TZOFFSETTO:-0800
TZNAME:PST
DTSTART:20261101T090000
END:STANDARD
END:VTIMEZONE
BEGIN:VEVENT
DTSTART;TZID=America/Los_Angeles:20250508T080000
DTEND;TZID=America/Los_Angeles:20250508T140000
DTSTAMP:20260424T005119
CREATED:20250501T130716Z
LAST-MODIFIED:20250501T130716Z
UID:3192-1746691200-1746712800@eastcontracostahistory.org
SUMMARY:Third Grade Program
DESCRIPTION:
URL:https://eastcontracostahistory.org/event/third-grade-program-20/
LOCATION:Grounds
CATEGORIES:Board
END:VEVENT
BEGIN:VEVENT
DTSTART;TZID=America/Los_Angeles:20250507T100000
DTEND;TZID=America/Los_Angeles:20250507T120000
DTSTAMP:20260424T005119
CREATED:20250401T024222Z
LAST-MODIFIED:20250415T144717Z
UID:3025-1746612000-1746619200@eastcontracostahistory.org
SUMMARY:Board Meeting
DESCRIPTION:
URL:https://eastcontracostahistory.org/event/board-planning-session/
LOCATION:Resource Center
CATEGORIES:Board
END:VEVENT
BEGIN:VEVENT
DTSTART;TZID=America/Los_Angeles:20250506T080000
DTEND;TZID=America/Los_Angeles:20250506T140000
DTSTAMP:20260424T005119
CREATED:20250501T130553Z
LAST-MODIFIED:20250501T130553Z
UID:3193-1746518400-1746540000@eastcontracostahistory.org
SUMMARY:Third Grade Program
DESCRIPTION:
URL:https://eastcontracostahistory.org/event/third-grade-program-19/
LOCATION:Grounds
CATEGORIES:Board
END:VEVENT
BEGIN:VEVENT
DTSTART;TZID=America/Los_Angeles:20250505T080000
DTEND;TZID=America/Los_Angeles:20250505T140000
DTSTAMP:20260424T005119
CREATED:20250401T030747Z
LAST-MODIFIED:20250401T031846Z
UID:3059-1746432000-1746453600@eastcontracostahistory.org
SUMMARY:Third Grade Program
DESCRIPTION:
URL:https://eastcontracostahistory.org/event/third-grade-program-15/
LOCATION:Grounds
CATEGORIES:Board
END:VEVENT
BEGIN:VEVENT
DTSTART;TZID=America/Los_Angeles:20250504T133000
DTEND;TZID=America/Los_Angeles:20250504T160000
DTSTAMP:20260424T005119
CREATED:20250401T024328Z
LAST-MODIFIED:20250401T032536Z
UID:3027-1746365400-1746374400@eastcontracostahistory.org
SUMMARY:May Member Dinner
DESCRIPTION:
URL:https://eastcontracostahistory.org/event/may-member-dinner/
LOCATION:Museum
CATEGORIES:Board,Community
END:VEVENT
BEGIN:VEVENT
DTSTART;TZID=America/Los_Angeles:20250503T100000
DTEND;TZID=America/Los_Angeles:20250503T140000
DTSTAMP:20260424T005119
CREATED:20250319T133931Z
LAST-MODIFIED:20250401T032501Z
UID:2899-1746266400-1746280800@eastcontracostahistory.org
SUMMARY:Museum Open
DESCRIPTION:Plan your visit
URL:https://eastcontracostahistory.org/event/museum-open-5/
LOCATION:Museum
CATEGORIES:Board,Community
ATTACH;FMTTYPE=image/jpeg:https://eastcontracostahistory.org/wp-content/uploads/2022/01/NailHouse_2007.jpg
END:VEVENT
BEGIN:VEVENT
DTSTART;TZID=America/Los_Angeles:20250502T080000
DTEND;TZID=America/Los_Angeles:20250502T140000
DTSTAMP:20260424T005119
CREATED:20250401T030512Z
LAST-MODIFIED:20250415T144543Z
UID:3049-1746172800-1746194400@eastcontracostahistory.org
SUMMARY:Third Grade Program
DESCRIPTION:
URL:https://eastcontracostahistory.org/event/third-grade-program-10/
LOCATION:Grounds
CATEGORIES:Board
END:VEVENT
BEGIN:VEVENT
DTSTART;TZID=America/Los_Angeles:20250501T080000
DTEND;TZID=America/Los_Angeles:20250501T140000
DTSTAMP:20260424T005119
CREATED:20250401T030442Z
LAST-MODIFIED:20250401T031636Z
UID:3046-1746086400-1746108000@eastcontracostahistory.org
SUMMARY:Third Grade Program
DESCRIPTION:
URL:https://eastcontracostahistory.org/event/third-grade-program-9/
LOCATION:Grounds
CATEGORIES:Board
END:VEVENT
BEGIN:VEVENT
DTSTART;TZID=America/Los_Angeles:20250430T100000
DTEND;TZID=America/Los_Angeles:20250430T120000
DTSTAMP:20260424T005119
CREATED:20250415T143902Z
LAST-MODIFIED:20250415T143943Z
UID:3143-1746007200-1746014400@eastcontracostahistory.org
SUMMARY:Exec Brd Mtg
DESCRIPTION:
URL:https://eastcontracostahistory.org/event/exec-brd-mtg/
LOCATION:Resource Center
CATEGORIES:Board
END:VEVENT
BEGIN:VEVENT
DTSTART;TZID=America/Los_Angeles:20250429T080000
DTEND;TZID=America/Los_Angeles:20250429T140000
DTSTAMP:20260424T005119
CREATED:20250401T030128Z
LAST-MODIFIED:20250401T031541Z
UID:3038-1745913600-1745935200@eastcontracostahistory.org
SUMMARY:Third Grade Program
DESCRIPTION:
URL:https://eastcontracostahistory.org/event/third-grade-program-5/
LOCATION:Grounds
CATEGORIES:Board
END:VEVENT
BEGIN:VEVENT
DTSTART;TZID=America/Los_Angeles:20250428T080000
DTEND;TZID=America/Los_Angeles:20250428T140000
DTSTAMP:20260424T005119
CREATED:20250401T030840Z
LAST-MODIFIED:20250401T031449Z
UID:3063-1745827200-1745848800@eastcontracostahistory.org
SUMMARY:Third Grade Program
DESCRIPTION:
URL:https://eastcontracostahistory.org/event/third-grade-program-17/
LOCATION:Grounds
CATEGORIES:Board
END:VEVENT
BEGIN:VEVENT
DTSTART;TZID=America/Los_Angeles:20250426T100000
DTEND;TZID=America/Los_Angeles:20250426T140000
DTSTAMP:20260424T005119
CREATED:20250319T133842Z
LAST-MODIFIED:20250401T032450Z
UID:2897-1745661600-1745676000@eastcontracostahistory.org
SUMMARY:Museum Open
DESCRIPTION:Plan your visit
URL:https://eastcontracostahistory.org/event/museum-open-4/
LOCATION:Museum
CATEGORIES:Board,Community
ATTACH;FMTTYPE=image/jpeg:https://eastcontracostahistory.org/wp-content/uploads/2022/01/NailHouse_2007.jpg
END:VEVENT
BEGIN:VEVENT
DTSTART;TZID=America/Los_Angeles:20250425T080000
DTEND;TZID=America/Los_Angeles:20250425T170000
DTSTAMP:20260424T005119
CREATED:20250401T032017Z
LAST-MODIFIED:20250401T032017Z
UID:3065-1745568000-1745600400@eastcontracostahistory.org
SUMMARY:Third Grade Program
DESCRIPTION:
URL:https://eastcontracostahistory.org/event/third-grade-program-18/
LOCATION:Grounds
CATEGORIES:Board
END:VEVENT
BEGIN:VEVENT
DTSTART;TZID=America/Los_Angeles:20250424T080000
DTEND;TZID=America/Los_Angeles:20250424T170000
DTSTAMP:20260424T005119
CREATED:20250401T030810Z
LAST-MODIFIED:20250401T030810Z
UID:3061-1745481600-1745514000@eastcontracostahistory.org
SUMMARY:Third Grade Program
DESCRIPTION:
URL:https://eastcontracostahistory.org/event/third-grade-program-16/
LOCATION:Grounds
CATEGORIES:Board
END:VEVENT
BEGIN:VEVENT
DTSTART;TZID=America/Los_Angeles:20250422T080000
DTEND;TZID=America/Los_Angeles:20250422T170000
DTSTAMP:20260424T005119
CREATED:20250401T030719Z
LAST-MODIFIED:20250401T030719Z
UID:3057-1745308800-1745341200@eastcontracostahistory.org
SUMMARY:Third Grade Program
DESCRIPTION:
URL:https://eastcontracostahistory.org/event/third-grade-program-14/
LOCATION:Grounds
CATEGORIES:Board
END:VEVENT
BEGIN:VEVENT
DTSTART;TZID=America/Los_Angeles:20250420T100000
DTEND;TZID=America/Los_Angeles:20250420T140000
DTSTAMP:20260424T005119
CREATED:20250319T133749Z
LAST-MODIFIED:20250401T032434Z
UID:2895-1745143200-1745157600@eastcontracostahistory.org
SUMMARY:Museum Open
DESCRIPTION:Plan your visit
URL:https://eastcontracostahistory.org/event/museum-open-3/
LOCATION:Museum
CATEGORIES:Board,Community
ATTACH;FMTTYPE=image/jpeg:https://eastcontracostahistory.org/wp-content/uploads/2022/01/NailHouse_2007.jpg
END:VEVENT
BEGIN:VEVENT
DTSTART;TZID=America/Los_Angeles:20250419T100000
DTEND;TZID=America/Los_Angeles:20250419T140000
DTSTAMP:20260424T005119
CREATED:20250319T133635Z
LAST-MODIFIED:20250401T032422Z
UID:2893-1745056800-1745071200@eastcontracostahistory.org
SUMMARY:Museum Open
DESCRIPTION:Plan your visit
URL:https://eastcontracostahistory.org/event/museum-open-2/
LOCATION:Museum
CATEGORIES:Board,Community
ATTACH;FMTTYPE=image/jpeg:https://eastcontracostahistory.org/wp-content/uploads/2022/01/NailHouse_2007.jpg
END:VEVENT
BEGIN:VEVENT
DTSTART;TZID=America/Los_Angeles:20250418T080000
DTEND;TZID=America/Los_Angeles:20250418T170000
DTSTAMP:20260424T005119
CREATED:20250401T030650Z
LAST-MODIFIED:20250401T030650Z
UID:3055-1744963200-1744995600@eastcontracostahistory.org
SUMMARY:Third Grade Program
DESCRIPTION:
URL:https://eastcontracostahistory.org/event/third-grade-program-13/
LOCATION:Grounds
CATEGORIES:Board
END:VEVENT
BEGIN:VEVENT
DTSTART;TZID=America/Los_Angeles:20250417T130000
DTEND;TZID=America/Los_Angeles:20250417T150000
DTSTAMP:20260424T005119
CREATED:20250415T143707Z
LAST-MODIFIED:20250415T143707Z
UID:3141-1744894800-1744902000@eastcontracostahistory.org
SUMMARY:Exhibit Team Leads Mtg
DESCRIPTION:Meeting at Mary’s house
URL:https://eastcontracostahistory.org/event/exhibit-team-leads-mtg/
CATEGORIES:Board
END:VEVENT
BEGIN:VEVENT
DTSTART;TZID=America/Los_Angeles:20250417T080000
DTEND;TZID=America/Los_Angeles:20250417T140000
DTSTAMP:20260424T005119
CREATED:20250401T030621Z
LAST-MODIFIED:20250401T030621Z
UID:3053-1744876800-1744898400@eastcontracostahistory.org
SUMMARY:Third Grade Program
DESCRIPTION:
URL:https://eastcontracostahistory.org/event/third-grade-program-12/
CATEGORIES:Board
END:VEVENT
BEGIN:VEVENT
DTSTART;TZID=America/Los_Angeles:20250415T080000
DTEND;TZID=America/Los_Angeles:20250415T140000
DTSTAMP:20260424T005119
CREATED:20250401T030555Z
LAST-MODIFIED:20250401T030555Z
UID:3051-1744704000-1744725600@eastcontracostahistory.org
SUMMARY:Third Grade Program
DESCRIPTION:
URL:https://eastcontracostahistory.org/event/third-grade-program-11/
LOCATION:Grounds
CATEGORIES:Board
END:VEVENT
BEGIN:VEVENT
DTSTART;TZID=America/Los_Angeles:20250414T080000
DTEND;TZID=America/Los_Angeles:20250414T140000
DTSTAMP:20260424T005119
CREATED:20250401T030410Z
LAST-MODIFIED:20250401T030410Z
UID:3044-1744617600-1744639200@eastcontracostahistory.org
SUMMARY:Third Grade Program
DESCRIPTION:
URL:https://eastcontracostahistory.org/event/third-grade-program-8/
CATEGORIES:Board
END:VEVENT
BEGIN:VEVENT
DTSTART;TZID=America/Los_Angeles:20250412T100000
DTEND;TZID=America/Los_Angeles:20250412T140000
DTSTAMP:20260424T005119
CREATED:20250319T132406Z
LAST-MODIFIED:20250401T032405Z
UID:2891-1744452000-1744466400@eastcontracostahistory.org
SUMMARY:Museum Open
DESCRIPTION:Plan your visit
URL:https://eastcontracostahistory.org/event/museum-open/
LOCATION:Museum
CATEGORIES:Board,Community
ATTACH;FMTTYPE=image/jpeg:https://eastcontracostahistory.org/wp-content/uploads/2022/01/NailHouse_2007.jpg
END:VEVENT
BEGIN:VEVENT
DTSTART;TZID=America/Los_Angeles:20250411T080000
DTEND;TZID=America/Los_Angeles:20250411T130000
DTSTAMP:20260424T005119
CREATED:20250401T030333Z
LAST-MODIFIED:20250401T030333Z
UID:3042-1744358400-1744376400@eastcontracostahistory.org
SUMMARY:Third Grade Program
DESCRIPTION:
URL:https://eastcontracostahistory.org/event/third-grade-program-7/
CATEGORIES:Board
END:VEVENT
BEGIN:VEVENT
DTSTART;TZID=America/Los_Angeles:20250410T080000
DTEND;TZID=America/Los_Angeles:20250410T130000
DTSTAMP:20260424T005119
CREATED:20250401T030255Z
LAST-MODIFIED:20250401T030255Z
UID:3040-1744272000-1744290000@eastcontracostahistory.org
SUMMARY:Third Grade Program
DESCRIPTION:
URL:https://eastcontracostahistory.org/event/third-grade-program-6/
CATEGORIES:Board
END:VEVENT
BEGIN:VEVENT
DTSTART;TZID=America/Los_Angeles:20250409T100000
DTEND;TZID=America/Los_Angeles:20250409T120000
DTSTAMP:20260424T005119
CREATED:20250401T022141Z
LAST-MODIFIED:20250401T031136Z
UID:3014-1744192800-1744200000@eastcontracostahistory.org
SUMMARY:Intake Meeting
DESCRIPTION:Monthly Intake Meeting
URL:https://eastcontracostahistory.org/event/intake-meeting/
LOCATION:Resource Center
CATEGORIES:Board
END:VEVENT
BEGIN:VEVENT
DTSTART;TZID=America/Los_Angeles:20250408T080000
DTEND;TZID=America/Los_Angeles:20250408T140000
DTSTAMP:20260424T005119
CREATED:20250401T025913Z
LAST-MODIFIED:20250401T025913Z
UID:3036-1744099200-1744120800@eastcontracostahistory.org
SUMMARY:Third Grade Program
DESCRIPTION:
URL:https://eastcontracostahistory.org/event/third-grade-program-4/
CATEGORIES:Board
END:VEVENT
BEGIN:VEVENT
DTSTART;TZID=America/Los_Angeles:20250407T080000
DTEND;TZID=America/Los_Angeles:20250407T140000
DTSTAMP:20260424T005119
CREATED:20250401T025825Z
LAST-MODIFIED:20250401T025948Z
UID:3034-1744012800-1744034400@eastcontracostahistory.org
SUMMARY:Third Grade Program
DESCRIPTION:
URL:https://eastcontracostahistory.org/event/third-grade-program-3/
LOCATION:Grounds
CATEGORIES:Board
END:VEVENT
BEGIN:VEVENT
DTSTART;TZID=America/Los_Angeles:20250405T090000
DTEND;TZID=America/Los_Angeles:20250405T140000
DTSTAMP:20260424T005119
CREATED:20250327T160846Z
LAST-MODIFIED:20250327T160846Z
UID:2998-1743843600-1743861600@eastcontracostahistory.org
SUMMARY:Museum Opening Day
DESCRIPTION:Enjoy a family day of old-fashioned fun! \nStart your morning with a yummy pancake breakfast hosted by Brentwood Lions and Rotary Clubs.\n9:00-12:00  Purchase tickets at the gate\nKids can enjoy a petting zoo of 4-H animals\, sit on the fire truck\, sound the whistle in the caboose.\nAdults can enjoy a stroll through yesteryear in the Byer-Nail House and Homer’s Shed.\nAll can enjoy games on the front lawn and crank ice cream or churn butter at 11:00\nWe hope to see you there!
URL:https://eastcontracostahistory.org/event/museum-opening-day/
LOCATION:Museum
CATEGORIES:Board,Community
ATTACH;FMTTYPE=image/jpeg:https://eastcontracostahistory.org/wp-content/uploads/2025/03/Digital-Ad.jpg
END:VEVENT
BEGIN:VEVENT
DTSTART;TZID=America/Los_Angeles:20250404T080000
DTEND;TZID=America/Los_Angeles:20250404T140000
DTSTAMP:20260424T005119
CREATED:20250401T025517Z
LAST-MODIFIED:20250401T025517Z
UID:3032-1743753600-1743775200@eastcontracostahistory.org
SUMMARY:Third Grade Program
DESCRIPTION:
URL:https://eastcontracostahistory.org/event/third-grade-program-2/
LOCATION:Grounds
CATEGORIES:Board
END:VEVENT
END:VCALENDAR