BEGIN:VCALENDAR
VERSION:2.0
PRODID:-//East Contra Costa Historical Society - ECPv6.15.20//NONSGML v1.0//EN
CALSCALE:GREGORIAN
METHOD:PUBLISH
X-ORIGINAL-URL:https://eastcontracostahistory.org
X-WR-CALDESC:Events for East Contra Costa Historical Society
REFRESH-INTERVAL;VALUE=DURATION:PT1H
X-Robots-Tag:noindex
X-PUBLISHED-TTL:PT1H
BEGIN:VTIMEZONE
TZID:America/Los_Angeles
BEGIN:DAYLIGHT
TZOFFSETFROM:-0800
TZOFFSETTO:-0700
TZNAME:PDT
DTSTART:20250309T100000
END:DAYLIGHT
BEGIN:STANDARD
TZOFFSETFROM:-0700
TZOFFSETTO:-0800
TZNAME:PST
DTSTART:20251102T090000
END:STANDARD
BEGIN:DAYLIGHT
TZOFFSETFROM:-0800
TZOFFSETTO:-0700
TZNAME:PDT
DTSTART:20260308T100000
END:DAYLIGHT
BEGIN:STANDARD
TZOFFSETFROM:-0700
TZOFFSETTO:-0800
TZNAME:PST
DTSTART:20261101T090000
END:STANDARD
BEGIN:DAYLIGHT
TZOFFSETFROM:-0800
TZOFFSETTO:-0700
TZNAME:PDT
DTSTART:20270314T100000
END:DAYLIGHT
BEGIN:STANDARD
TZOFFSETFROM:-0700
TZOFFSETTO:-0800
TZNAME:PST
DTSTART:20271107T090000
END:STANDARD
END:VTIMEZONE
BEGIN:VEVENT
DTSTART;VALUE=DATE:20260402
DTEND;VALUE=DATE:20260530
DTSTAMP:20260423T113033
CREATED:20260214T012127Z
LAST-MODIFIED:20260214T012127Z
UID:3813-1775088000-1780099199@eastcontracostahistory.org
SUMMARY:Local History Days (3rd grade field trip)
DESCRIPTION:ECCHS enhances and enriches study of local history with full day field trips for third grade students within the boundary of the Liberty Union High School District  (Bethel Island\, Brentwood\, Byron\, Discovery Bay\, Knightsen\, Oakley). \nField trips are on Monday\, Tuesday\, Thursday\, Friday April 1-May29
URL:https://eastcontracostahistory.org/event/local-history-days-3rd-grade-field-trip/
LOCATION:Museum
CATEGORIES:Board,Community
ATTACH;FMTTYPE=image/png:https://eastcontracostahistory.org/wp-content/uploads/2026/02/collage-scaled.png
END:VEVENT
BEGIN:VEVENT
DTSTART;TZID=America/Los_Angeles:20260527T100000
DTEND;TZID=America/Los_Angeles:20260527T120000
DTSTAMP:20260423T113033
CREATED:20260326T150104Z
LAST-MODIFIED:20260326T150104Z
UID:3896-1779876000-1779883200@eastcontracostahistory.org
SUMMARY:Executive Board Meeting
DESCRIPTION:
URL:https://eastcontracostahistory.org/event/executive-board-meeting-4/
CATEGORIES:Board
END:VEVENT
BEGIN:VEVENT
DTSTART;TZID=America/Los_Angeles:20260530T100000
DTEND;TZID=America/Los_Angeles:20260530T140000
DTSTAMP:20260423T113033
CREATED:20260124T134632Z
LAST-MODIFIED:20260326T154702Z
UID:3793-1780135200-1780149600@eastcontracostahistory.org
SUMMARY:Museum Open
DESCRIPTION:
URL:https://eastcontracostahistory.org/event/museum-open-1000-200-11/
LOCATION:Museum
CATEGORIES:Board,Community
END:VEVENT
BEGIN:VEVENT
DTSTART;TZID=America/Los_Angeles:20260603T090000
DTEND;TZID=America/Los_Angeles:20260603T130000
DTSTAMP:20260423T113033
CREATED:20260326T150156Z
LAST-MODIFIED:20260326T150156Z
UID:3898-1780477200-1780491600@eastcontracostahistory.org
SUMMARY:Board Planning Session
DESCRIPTION:
URL:https://eastcontracostahistory.org/event/board-planning-session-6/
LOCATION:Resource Center
CATEGORIES:Board,Community
END:VEVENT
BEGIN:VEVENT
DTSTART;TZID=America/Los_Angeles:20260606T100000
DTEND;TZID=America/Los_Angeles:20260606T140000
DTSTAMP:20260423T113033
CREATED:20260326T155150Z
LAST-MODIFIED:20260326T155150Z
UID:3922-1780740000-1780754400@eastcontracostahistory.org
SUMMARY:Museum Open
DESCRIPTION:
URL:https://eastcontracostahistory.org/event/museum-open-37/
CATEGORIES:Board,Community
END:VEVENT
BEGIN:VEVENT
DTSTART;TZID=America/Los_Angeles:20260613T100000
DTEND;TZID=America/Los_Angeles:20260613T140000
DTSTAMP:20260423T113033
CREATED:20260326T155309Z
LAST-MODIFIED:20260326T155309Z
UID:3926-1781344800-1781359200@eastcontracostahistory.org
SUMMARY:Museum Open
DESCRIPTION:
URL:https://eastcontracostahistory.org/event/museum-open-39/
CATEGORIES:Board,Community
END:VEVENT
BEGIN:VEVENT
DTSTART;TZID=America/Los_Angeles:20260620T100000
DTEND;TZID=America/Los_Angeles:20260620T140000
DTSTAMP:20260423T113033
CREATED:20260326T155346Z
LAST-MODIFIED:20260326T155346Z
UID:3928-1781949600-1781964000@eastcontracostahistory.org
SUMMARY:Museum Open
DESCRIPTION:
URL:https://eastcontracostahistory.org/event/museum-open-40/
CATEGORIES:Board,Community
END:VEVENT
BEGIN:VEVENT
DTSTART;TZID=America/Los_Angeles:20260621T100000
DTEND;TZID=America/Los_Angeles:20260621T140000
DTSTAMP:20260423T113033
CREATED:20260326T155422Z
LAST-MODIFIED:20260326T155422Z
UID:3930-1782036000-1782050400@eastcontracostahistory.org
SUMMARY:Museum Open
DESCRIPTION:
URL:https://eastcontracostahistory.org/event/museum-open-41/
CATEGORIES:Board,Community
END:VEVENT
BEGIN:VEVENT
DTSTART;TZID=America/Los_Angeles:20260622T170000
DTEND;TZID=America/Los_Angeles:20260622T200000
DTSTAMP:20260423T113033
CREATED:20260326T145341Z
LAST-MODIFIED:20260326T145341Z
UID:3886-1782147600-1782158400@eastcontracostahistory.org
SUMMARY:DIG Potluck
DESCRIPTION:
URL:https://eastcontracostahistory.org/event/dig-potluck/
LOCATION:Grounds
CATEGORIES:Board
END:VEVENT
BEGIN:VEVENT
DTSTART;TZID=America/Los_Angeles:20260624T100000
DTEND;TZID=America/Los_Angeles:20260624T120000
DTSTAMP:20260423T113033
CREATED:20260326T150246Z
LAST-MODIFIED:20260326T150246Z
UID:3900-1782295200-1782302400@eastcontracostahistory.org
SUMMARY:Executive Board Meeting
DESCRIPTION:
URL:https://eastcontracostahistory.org/event/executive-board-meeting-5/
LOCATION:Resource Center
CATEGORIES:Board
END:VEVENT
BEGIN:VEVENT
DTSTART;TZID=America/Los_Angeles:20260625T113000
DTEND;TZID=America/Los_Angeles:20260625T143000
DTSTAMP:20260423T113033
CREATED:20260221T173809Z
LAST-MODIFIED:20260221T173809Z
UID:3823-1782387000-1782397800@eastcontracostahistory.org
SUMMARY:Discovery Bay Women's Group Tour
DESCRIPTION:
URL:https://eastcontracostahistory.org/event/discovery-bay-womens-group-tour/
LOCATION:Museum
CATEGORIES:Board,Community
END:VEVENT
BEGIN:VEVENT
DTSTART;TZID=America/Los_Angeles:20260627T100000
DTEND;TZID=America/Los_Angeles:20260627T140000
DTSTAMP:20260423T113033
CREATED:20260326T155503Z
LAST-MODIFIED:20260326T155503Z
UID:3932-1782554400-1782568800@eastcontracostahistory.org
SUMMARY:Museum Open
DESCRIPTION:
URL:https://eastcontracostahistory.org/event/museum-open-42/
CATEGORIES:Board,Community
END:VEVENT
BEGIN:VEVENT
DTSTART;TZID=America/Los_Angeles:20260628T090000
DTEND;TZID=America/Los_Angeles:20260628T150000
DTSTAMP:20260423T113033
CREATED:20260214T011020Z
LAST-MODIFIED:20260214T011020Z
UID:3809-1782637200-1782658800@eastcontracostahistory.org
SUMMARY:Cruisin' through History Car Show
DESCRIPTION:
URL:https://eastcontracostahistory.org/event/cruisin-through-history-car-show-2/
LOCATION:Museum
CATEGORIES:Board,Community
ATTACH;FMTTYPE=image/png:https://eastcontracostahistory.org/wp-content/uploads/2026/02/Header-scaled.png
END:VEVENT
BEGIN:VEVENT
DTSTART;TZID=America/Los_Angeles:20260701T100000
DTEND;TZID=America/Los_Angeles:20260701T120000
DTSTAMP:20260423T113033
CREATED:20260326T150344Z
LAST-MODIFIED:20260326T150344Z
UID:3902-1782900000-1782907200@eastcontracostahistory.org
SUMMARY:Board Meeting
DESCRIPTION:
URL:https://eastcontracostahistory.org/event/board-meeting-12/
CATEGORIES:Board,Community
END:VEVENT
BEGIN:VEVENT
DTSTART;TZID=America/Los_Angeles:20260729T100000
DTEND;TZID=America/Los_Angeles:20260729T120000
DTSTAMP:20260423T113033
CREATED:20260326T150428Z
LAST-MODIFIED:20260326T150428Z
UID:3904-1785319200-1785326400@eastcontracostahistory.org
SUMMARY:Executive Board Meeting
DESCRIPTION:
URL:https://eastcontracostahistory.org/event/executive-board-meeting-6/
LOCATION:Resource Center
CATEGORIES:Board
END:VEVENT
BEGIN:VEVENT
DTSTART;TZID=America/Los_Angeles:20261008T183000
DTEND;TZID=America/Los_Angeles:20261008T200000
DTSTAMP:20260423T113033
CREATED:20260303T163126Z
LAST-MODIFIED:20260303T163126Z
UID:3828-1791484200-1791489600@eastcontracostahistory.org
SUMMARY:Open Mic Night - In the Shadow of Diablo
DESCRIPTION:
URL:https://eastcontracostahistory.org/event/open-mic-night-in-the-shadow-of-diablo/
LOCATION:Museum
CATEGORIES:Board,Community
END:VEVENT
END:VCALENDAR