BEGIN:VCALENDAR
VERSION:2.0
PRODID:-//East Contra Costa Historical Society - ECPv6.15.20//NONSGML v1.0//EN
CALSCALE:GREGORIAN
METHOD:PUBLISH
X-WR-CALNAME:East Contra Costa Historical Society
X-ORIGINAL-URL:https://eastcontracostahistory.org
X-WR-CALDESC:Events for East Contra Costa Historical Society
REFRESH-INTERVAL;VALUE=DURATION:PT1H
X-Robots-Tag:noindex
X-PUBLISHED-TTL:PT1H
BEGIN:VTIMEZONE
TZID:America/Los_Angeles
BEGIN:DAYLIGHT
TZOFFSETFROM:-0800
TZOFFSETTO:-0700
TZNAME:PDT
DTSTART:20240310T100000
END:DAYLIGHT
BEGIN:STANDARD
TZOFFSETFROM:-0700
TZOFFSETTO:-0800
TZNAME:PST
DTSTART:20241103T090000
END:STANDARD
BEGIN:DAYLIGHT
TZOFFSETFROM:-0800
TZOFFSETTO:-0700
TZNAME:PDT
DTSTART:20250309T100000
END:DAYLIGHT
BEGIN:STANDARD
TZOFFSETFROM:-0700
TZOFFSETTO:-0800
TZNAME:PST
DTSTART:20251102T090000
END:STANDARD
BEGIN:DAYLIGHT
TZOFFSETFROM:-0800
TZOFFSETTO:-0700
TZNAME:PDT
DTSTART:20260308T100000
END:DAYLIGHT
BEGIN:STANDARD
TZOFFSETFROM:-0700
TZOFFSETTO:-0800
TZNAME:PST
DTSTART:20261101T090000
END:STANDARD
BEGIN:DAYLIGHT
TZOFFSETFROM:-0800
TZOFFSETTO:-0700
TZNAME:PDT
DTSTART:20270314T100000
END:DAYLIGHT
BEGIN:STANDARD
TZOFFSETFROM:-0700
TZOFFSETTO:-0800
TZNAME:PST
DTSTART:20271107T090000
END:STANDARD
END:VTIMEZONE
BEGIN:VEVENT
DTSTART;TZID=America/Los_Angeles:20250809T100000
DTEND;TZID=America/Los_Angeles:20250809T140000
DTSTAMP:20260419T142850
CREATED:20250319T150904Z
LAST-MODIFIED:20250401T032809Z
UID:2933-1754733600-1754748000@eastcontracostahistory.org
SUMMARY:Museum Open
DESCRIPTION:Plan your visit
URL:https://eastcontracostahistory.org/event/museum-open-20/
LOCATION:Museum
CATEGORIES:Board,Community
ATTACH;FMTTYPE=image/jpeg:https://eastcontracostahistory.org/wp-content/uploads/2022/01/NailHouse_2007.jpg
END:VEVENT
BEGIN:VEVENT
DTSTART;TZID=America/Los_Angeles:20250816T100000
DTEND;TZID=America/Los_Angeles:20250816T140000
DTSTAMP:20260419T142850
CREATED:20250319T150937Z
LAST-MODIFIED:20250401T032818Z
UID:2935-1755338400-1755352800@eastcontracostahistory.org
SUMMARY:Museum Open
DESCRIPTION:Plan your visit
URL:https://eastcontracostahistory.org/event/museum-open-21/
LOCATION:Museum
CATEGORIES:Board,Community
ATTACH;FMTTYPE=image/jpeg:https://eastcontracostahistory.org/wp-content/uploads/2022/01/NailHouse_2007.jpg
END:VEVENT
BEGIN:VEVENT
DTSTART;TZID=America/Los_Angeles:20250816T100000
DTEND;TZID=America/Los_Angeles:20250817T160000
DTSTAMP:20260419T142850
CREATED:20250508T094904Z
LAST-MODIFIED:20250813T150938Z
UID:3233-1755338400-1755446400@eastcontracostahistory.org
SUMMARY:Boats & Berries - Bethel Island
DESCRIPTION:Visit the ECCHS booth at Boats & Berries Festival on Bethel Island!
URL:https://eastcontracostahistory.org/event/boats-berries-bethel-island/
LOCATION:Community
CATEGORIES:Board,Community
END:VEVENT
BEGIN:VEVENT
DTSTART;TZID=America/Los_Angeles:20250817T100000
DTEND;TZID=America/Los_Angeles:20250817T140000
DTSTAMP:20260419T142850
CREATED:20250319T151014Z
LAST-MODIFIED:20250401T032824Z
UID:2937-1755424800-1755439200@eastcontracostahistory.org
SUMMARY:Museum Open
DESCRIPTION:Plan your visit
URL:https://eastcontracostahistory.org/event/museum-open-22/
LOCATION:Museum
CATEGORIES:Board,Community
ATTACH;FMTTYPE=image/jpeg:https://eastcontracostahistory.org/wp-content/uploads/2022/01/NailHouse_2007.jpg
END:VEVENT
BEGIN:VEVENT
DTSTART;TZID=America/Los_Angeles:20250823T100000
DTEND;TZID=America/Los_Angeles:20250823T130000
DTSTAMP:20260419T142850
CREATED:20250709T155218Z
LAST-MODIFIED:20250807T140906Z
UID:3522-1755943200-1755954000@eastcontracostahistory.org
SUMMARY:PEO - YA Chapter - Museum Tour
DESCRIPTION:PEO group of 15 women to visit museum for tour and lunch (they provide)
URL:https://eastcontracostahistory.org/event/peo-ya-chapter-museum-tour/
CATEGORIES:Board,Community
END:VEVENT
BEGIN:VEVENT
DTSTART;TZID=America/Los_Angeles:20250823T100000
DTEND;TZID=America/Los_Angeles:20250823T140000
DTSTAMP:20260419T142850
CREATED:20250319T151059Z
LAST-MODIFIED:20250401T032830Z
UID:2939-1755943200-1755957600@eastcontracostahistory.org
SUMMARY:Museum Open
DESCRIPTION:Plan your visit
URL:https://eastcontracostahistory.org/event/museum-open-23/
LOCATION:Museum
CATEGORIES:Board,Community
ATTACH;FMTTYPE=image/jpeg:https://eastcontracostahistory.org/wp-content/uploads/2022/01/NailHouse_2007.jpg
END:VEVENT
BEGIN:VEVENT
DTSTART;TZID=America/Los_Angeles:20250824T090000
DTEND;TZID=America/Los_Angeles:20250824T120000
DTSTAMP:20260419T142850
CREATED:20250807T135653Z
LAST-MODIFIED:20250807T135653Z
UID:3535-1756026000-1756036800@eastcontracostahistory.org
SUMMARY:Museum Clean Up Day
DESCRIPTION:
URL:https://eastcontracostahistory.org/event/museum-clean-up-day/
LOCATION:Grounds
CATEGORIES:Board,Community
END:VEVENT
BEGIN:VEVENT
DTSTART;TZID=America/Los_Angeles:20250830T100000
DTEND;TZID=America/Los_Angeles:20250830T140000
DTSTAMP:20260419T142850
CREATED:20250319T151142Z
LAST-MODIFIED:20250401T032836Z
UID:2941-1756548000-1756562400@eastcontracostahistory.org
SUMMARY:Museum Open
DESCRIPTION:Plan your visit
URL:https://eastcontracostahistory.org/event/museum-open-24/
LOCATION:Museum
CATEGORIES:Board,Community
ATTACH;FMTTYPE=image/jpeg:https://eastcontracostahistory.org/wp-content/uploads/2022/01/NailHouse_2007.jpg
END:VEVENT
BEGIN:VEVENT
DTSTART;TZID=America/Los_Angeles:20250906T080000
DTEND;TZID=America/Los_Angeles:20250906T170000
DTSTAMP:20260419T142850
CREATED:20250508T095213Z
LAST-MODIFIED:20250807T140223Z
UID:3245-1757145600-1757178000@eastcontracostahistory.org
SUMMARY:La Gran Fiesta - Brentwood
DESCRIPTION:
URL:https://eastcontracostahistory.org/event/la-gran-fiesta-brentwood/
LOCATION:Community
CATEGORIES:Board,Community
END:VEVENT
BEGIN:VEVENT
DTSTART;TZID=America/Los_Angeles:20250906T100000
DTEND;TZID=America/Los_Angeles:20250906T140000
DTSTAMP:20260419T142850
CREATED:20250319T151252Z
LAST-MODIFIED:20250401T032843Z
UID:2943-1757152800-1757167200@eastcontracostahistory.org
SUMMARY:Museum Open
DESCRIPTION:Plan your visit
URL:https://eastcontracostahistory.org/event/museum-open-25/
LOCATION:Museum
CATEGORIES:Board,Community
ATTACH;FMTTYPE=image/jpeg:https://eastcontracostahistory.org/wp-content/uploads/2022/01/NailHouse_2007.jpg
END:VEVENT
BEGIN:VEVENT
DTSTART;TZID=America/Los_Angeles:20250907T110000
DTEND;TZID=America/Los_Angeles:20250907T150000
DTSTAMP:20260419T142850
CREATED:20250614T133712Z
LAST-MODIFIED:20250814T053046Z
UID:3302-1757242800-1757257200@eastcontracostahistory.org
SUMMARY:Annual BBQ
DESCRIPTION:
URL:https://eastcontracostahistory.org/event/annual-bbq/
LOCATION:Museum
CATEGORIES:Board,Community
END:VEVENT
BEGIN:VEVENT
DTSTART;TZID=America/Los_Angeles:20250913T100000
DTEND;TZID=America/Los_Angeles:20250913T140000
DTSTAMP:20260419T142850
CREATED:20250319T151329Z
LAST-MODIFIED:20250401T032854Z
UID:2945-1757757600-1757772000@eastcontracostahistory.org
SUMMARY:Museum Open
DESCRIPTION:Plan your visit
URL:https://eastcontracostahistory.org/event/museum-open-26/
LOCATION:Museum
CATEGORIES:Board,Community
ATTACH;FMTTYPE=image/jpeg:https://eastcontracostahistory.org/wp-content/uploads/2022/01/NailHouse_2007.jpg
END:VEVENT
BEGIN:VEVENT
DTSTART;TZID=America/Los_Angeles:20250920T100000
DTEND;TZID=America/Los_Angeles:20250920T140000
DTSTAMP:20260419T142850
CREATED:20250319T151427Z
LAST-MODIFIED:20250401T032900Z
UID:2947-1758362400-1758376800@eastcontracostahistory.org
SUMMARY:Museum Open
DESCRIPTION:Plan your visit
URL:https://eastcontracostahistory.org/event/museum-open-27/
LOCATION:Museum
CATEGORIES:Board,Community
ATTACH;FMTTYPE=image/jpeg:https://eastcontracostahistory.org/wp-content/uploads/2022/01/NailHouse_2007.jpg
END:VEVENT
BEGIN:VEVENT
DTSTART;TZID=America/Los_Angeles:20250921T100000
DTEND;TZID=America/Los_Angeles:20250921T140000
DTSTAMP:20260419T142850
CREATED:20250319T151516Z
LAST-MODIFIED:20250401T032908Z
UID:2949-1758448800-1758463200@eastcontracostahistory.org
SUMMARY:Museum Open
DESCRIPTION:Plan your visit
URL:https://eastcontracostahistory.org/event/museum-open-28/
LOCATION:Museum
CATEGORIES:Board,Community
ATTACH;FMTTYPE=image/jpeg:https://eastcontracostahistory.org/wp-content/uploads/2022/01/NailHouse_2007.jpg
END:VEVENT
BEGIN:VEVENT
DTSTART;TZID=America/Los_Angeles:20250927T100000
DTEND;TZID=America/Los_Angeles:20250927T140000
DTSTAMP:20260419T142850
CREATED:20250319T151553Z
LAST-MODIFIED:20250401T032917Z
UID:2951-1758967200-1758981600@eastcontracostahistory.org
SUMMARY:Museum Open
DESCRIPTION:Plan your visit
URL:https://eastcontracostahistory.org/event/museum-open-29/
LOCATION:Museum
CATEGORIES:Board,Community
ATTACH;FMTTYPE=image/jpeg:https://eastcontracostahistory.org/wp-content/uploads/2022/01/NailHouse_2007.jpg
END:VEVENT
BEGIN:VEVENT
DTSTART;TZID=America/Los_Angeles:20251004T100000
DTEND;TZID=America/Los_Angeles:20251004T140000
DTSTAMP:20260419T142850
CREATED:20250410T123108Z
LAST-MODIFIED:20250410T123108Z
UID:3089-1759572000-1759586400@eastcontracostahistory.org
SUMMARY:Museum Open
DESCRIPTION:Plan your visit
URL:https://eastcontracostahistory.org/event/museum-open-31/
LOCATION:Museum
CATEGORIES:Board,Community
ATTACH;FMTTYPE=image/jpeg:https://eastcontracostahistory.org/wp-content/uploads/2022/01/NailHouse_2007.jpg
END:VEVENT
BEGIN:VEVENT
DTSTART;TZID=America/Los_Angeles:20251005T140000
DTEND;TZID=America/Los_Angeles:20251005T170000
DTSTAMP:20260419T142850
CREATED:20250508T095119Z
LAST-MODIFIED:20251004T202406Z
UID:3243-1759672800-1759683600@eastcontracostahistory.org
SUMMARY:Byron Chili CookOff
DESCRIPTION:
URL:https://eastcontracostahistory.org/event/byron-rail-fair/
LOCATION:Community
CATEGORIES:Board,Community
ATTACH;FMTTYPE=image/jpeg:https://eastcontracostahistory.org/wp-content/uploads/2025/05/ChiliCookOffPoster_2025.jpg
END:VEVENT
BEGIN:VEVENT
DTSTART;TZID=America/Los_Angeles:20251011T100000
DTEND;TZID=America/Los_Angeles:20251011T140000
DTSTAMP:20260419T142850
CREATED:20250410T123147Z
LAST-MODIFIED:20250410T123147Z
UID:3091-1760176800-1760191200@eastcontracostahistory.org
SUMMARY:Museum Open
DESCRIPTION:Plan your visit
URL:https://eastcontracostahistory.org/event/museum-open-32/
LOCATION:Museum
CATEGORIES:Board,Community
ATTACH;FMTTYPE=image/jpeg:https://eastcontracostahistory.org/wp-content/uploads/2022/01/NailHouse_2007.jpg
END:VEVENT
BEGIN:VEVENT
DTSTART;TZID=America/Los_Angeles:20251018T100000
DTEND;TZID=America/Los_Angeles:20251018T140000
DTSTAMP:20260419T142850
CREATED:20250410T123214Z
LAST-MODIFIED:20250410T123214Z
UID:3093-1760781600-1760796000@eastcontracostahistory.org
SUMMARY:Museum Open
DESCRIPTION:Plan your visit
URL:https://eastcontracostahistory.org/event/museum-open-33/
LOCATION:Museum
CATEGORIES:Board,Community
ATTACH;FMTTYPE=image/jpeg:https://eastcontracostahistory.org/wp-content/uploads/2022/01/NailHouse_2007.jpg
END:VEVENT
BEGIN:VEVENT
DTSTART;TZID=America/Los_Angeles:20251019T100000
DTEND;TZID=America/Los_Angeles:20251019T140000
DTSTAMP:20260419T142850
CREATED:20250410T123243Z
LAST-MODIFIED:20250410T123243Z
UID:3095-1760868000-1760882400@eastcontracostahistory.org
SUMMARY:Museum Open
DESCRIPTION:Plan your visit
URL:https://eastcontracostahistory.org/event/museum-open-34/
LOCATION:Museum
CATEGORIES:Board,Community
ATTACH;FMTTYPE=image/jpeg:https://eastcontracostahistory.org/wp-content/uploads/2022/01/NailHouse_2007.jpg
END:VEVENT
BEGIN:VEVENT
DTSTART;TZID=America/Los_Angeles:20251025T100000
DTEND;TZID=America/Los_Angeles:20251025T140000
DTSTAMP:20260419T142850
CREATED:20250410T123307Z
LAST-MODIFIED:20250410T123307Z
UID:3097-1761386400-1761400800@eastcontracostahistory.org
SUMMARY:Museum Open
DESCRIPTION:Plan your visit
URL:https://eastcontracostahistory.org/event/museum-open-35/
LOCATION:Museum
CATEGORIES:Board,Community
ATTACH;FMTTYPE=image/jpeg:https://eastcontracostahistory.org/wp-content/uploads/2022/01/NailHouse_2007.jpg
END:VEVENT
BEGIN:VEVENT
DTSTART;TZID=America/Los_Angeles:20251106T170000
DTEND;TZID=America/Los_Angeles:20251106T200000
DTSTAMP:20260419T142850
CREATED:20250618T234806Z
LAST-MODIFIED:20250807T140017Z
UID:3444-1762448400-1762459200@eastcontracostahistory.org
SUMMARY:Member Night at the Museum
DESCRIPTION:
URL:https://eastcontracostahistory.org/event/member-night-at-the-museum/
LOCATION:Museum
CATEGORIES:Board,Community
END:VEVENT
BEGIN:VEVENT
DTSTART;TZID=America/Los_Angeles:20251116T133000
DTEND;TZID=America/Los_Angeles:20251116T163000
DTSTAMP:20260419T142850
CREATED:20250618T234927Z
LAST-MODIFIED:20251004T202145Z
UID:3446-1763299800-1763310600@eastcontracostahistory.org
SUMMARY:Member Dinner Meeting
DESCRIPTION:Traditional Thanksgiving dinner complete with pumpkin pie!  Byron Roadhouse \nSpeaker:  Patty Bristow \n 
URL:https://eastcontracostahistory.org/event/member-dinner-meeting/
CATEGORIES:Board,Community
ATTACH;FMTTYPE=image/png:https://eastcontracostahistory.org/wp-content/uploads/2025/06/2025.png
END:VEVENT
BEGIN:VEVENT
DTSTART;TZID=America/Los_Angeles:20251129T170000
DTEND;TZID=America/Los_Angeles:20251129T200000
DTSTAMP:20260419T142850
CREATED:20250618T235218Z
LAST-MODIFIED:20250618T235218Z
UID:3448-1764435600-1764446400@eastcontracostahistory.org
SUMMARY:Brentwood Holiday Parade
DESCRIPTION:Watch for ECCHS in the Brentwood Holiday Parade!
URL:https://eastcontracostahistory.org/event/brentwood-holiday-parade/
LOCATION:Community
CATEGORIES:Board,Community
END:VEVENT
BEGIN:VEVENT
DTSTART;TZID=America/Los_Angeles:20251207T110000
DTEND;TZID=America/Los_Angeles:20251207T163000
DTSTAMP:20260419T142850
CREATED:20250618T235422Z
LAST-MODIFIED:20251004T202456Z
UID:3452-1765105200-1765125000@eastcontracostahistory.org
SUMMARY:Christmas on the Farm
DESCRIPTION:
URL:https://eastcontracostahistory.org/event/christmas-on-the-farm/
LOCATION:Museum
CATEGORIES:Board,Community
ATTACH;FMTTYPE=image/jpeg:https://eastcontracostahistory.org/wp-content/uploads/2025/06/FrontBack_Online-Calendar-Graphic.jpg
END:VEVENT
BEGIN:VEVENT
DTSTART;TZID=America/Los_Angeles:20260311T130000
DTEND;TZID=America/Los_Angeles:20260311T150000
DTSTAMP:20260419T142850
CREATED:20260124T131638Z
LAST-MODIFIED:20260124T131638Z
UID:3759-1773234000-1773241200@eastcontracostahistory.org
SUMMARY:Docent Training
DESCRIPTION:
URL:https://eastcontracostahistory.org/event/docent-training/
LOCATION:Resource Center
CATEGORIES:Board,Community
END:VEVENT
BEGIN:VEVENT
DTSTART;TZID=America/Los_Angeles:20260315T133000
DTEND;TZID=America/Los_Angeles:20260315T163000
DTSTAMP:20260419T142850
CREATED:20260124T132324Z
LAST-MODIFIED:20260214T012827Z
UID:3766-1773581400-1773592200@eastcontracostahistory.org
SUMMARY:March Member Dinner
DESCRIPTION:
URL:https://eastcontracostahistory.org/event/march-member-dinner/
LOCATION:Bethel Island Scout Hall\, 3090 Ranch Lane\, Bethel Island\, CA\, 94511\, United States
CATEGORIES:Board,Community
ATTACH;FMTTYPE=image/png:https://eastcontracostahistory.org/wp-content/uploads/2026/01/2026-art.png
END:VEVENT
BEGIN:VEVENT
DTSTART;TZID=America/Los_Angeles:20260321T130000
DTEND;TZID=America/Los_Angeles:20260321T150000
DTSTAMP:20260419T142850
CREATED:20260310T003804Z
LAST-MODIFIED:20260310T003804Z
UID:3872-1774098000-1774105200@eastcontracostahistory.org
SUMMARY:Greeter Orientation Meeting
DESCRIPTION:
URL:https://eastcontracostahistory.org/event/greeter-orientation-meeting/
LOCATION:Museum
CATEGORIES:Board,Community
END:VEVENT
BEGIN:VEVENT
DTSTART;TZID=America/Los_Angeles:20260401T100000
DTEND;TZID=America/Los_Angeles:20260401T120000
DTSTAMP:20260419T142850
CREATED:20260326T145917Z
LAST-MODIFIED:20260326T145917Z
UID:3892-1775037600-1775044800@eastcontracostahistory.org
SUMMARY:Board Meeting
DESCRIPTION:
URL:https://eastcontracostahistory.org/event/board-meeting-10/
LOCATION:Resource Center
CATEGORIES:Board,Community
END:VEVENT
BEGIN:VEVENT
DTSTART;VALUE=DATE:20260402
DTEND;VALUE=DATE:20260530
DTSTAMP:20260419T142850
CREATED:20260214T012127Z
LAST-MODIFIED:20260214T012127Z
UID:3813-1775088000-1780099199@eastcontracostahistory.org
SUMMARY:Local History Days (3rd grade field trip)
DESCRIPTION:ECCHS enhances and enriches study of local history with full day field trips for third grade students within the boundary of the Liberty Union High School District  (Bethel Island\, Brentwood\, Byron\, Discovery Bay\, Knightsen\, Oakley). \nField trips are on Monday\, Tuesday\, Thursday\, Friday April 1-May29
URL:https://eastcontracostahistory.org/event/local-history-days-3rd-grade-field-trip/
LOCATION:Museum
CATEGORIES:Board,Community
ATTACH;FMTTYPE=image/png:https://eastcontracostahistory.org/wp-content/uploads/2026/02/collage-scaled.png
END:VEVENT
END:VCALENDAR