BEGIN:VCALENDAR
VERSION:2.0
PRODID:-//East Contra Costa Historical Society - ECPv6.15.20//NONSGML v1.0//EN
CALSCALE:GREGORIAN
METHOD:PUBLISH
X-WR-CALNAME:East Contra Costa Historical Society
X-ORIGINAL-URL:https://eastcontracostahistory.org
X-WR-CALDESC:Events for East Contra Costa Historical Society
REFRESH-INTERVAL;VALUE=DURATION:PT1H
X-Robots-Tag:noindex
X-PUBLISHED-TTL:PT1H
BEGIN:VTIMEZONE
TZID:America/Los_Angeles
BEGIN:DAYLIGHT
TZOFFSETFROM:-0800
TZOFFSETTO:-0700
TZNAME:PDT
DTSTART:20240310T100000
END:DAYLIGHT
BEGIN:STANDARD
TZOFFSETFROM:-0700
TZOFFSETTO:-0800
TZNAME:PST
DTSTART:20241103T090000
END:STANDARD
BEGIN:DAYLIGHT
TZOFFSETFROM:-0800
TZOFFSETTO:-0700
TZNAME:PDT
DTSTART:20250309T100000
END:DAYLIGHT
BEGIN:STANDARD
TZOFFSETFROM:-0700
TZOFFSETTO:-0800
TZNAME:PST
DTSTART:20251102T090000
END:STANDARD
BEGIN:DAYLIGHT
TZOFFSETFROM:-0800
TZOFFSETTO:-0700
TZNAME:PDT
DTSTART:20260308T100000
END:DAYLIGHT
BEGIN:STANDARD
TZOFFSETFROM:-0700
TZOFFSETTO:-0800
TZNAME:PST
DTSTART:20261101T090000
END:STANDARD
END:VTIMEZONE
BEGIN:VEVENT
DTSTART;TZID=America/Los_Angeles:20250517T100000
DTEND;TZID=America/Los_Angeles:20250517T140000
DTSTAMP:20260419T124111
CREATED:20250319T134010Z
LAST-MODIFIED:20250401T032559Z
UID:2901-1747476000-1747490400@eastcontracostahistory.org
SUMMARY:Museum Open
DESCRIPTION:Plan your visit
URL:https://eastcontracostahistory.org/event/museum-open-6/
LOCATION:Museum
CATEGORIES:Board,Community
ATTACH;FMTTYPE=image/jpeg:https://eastcontracostahistory.org/wp-content/uploads/2022/01/NailHouse_2007.jpg
END:VEVENT
BEGIN:VEVENT
DTSTART;TZID=America/Los_Angeles:20250517T110000
DTEND;TZID=America/Los_Angeles:20250517T140000
DTSTAMP:20260419T124111
CREATED:20250507T115841Z
LAST-MODIFIED:20250507T120125Z
UID:3220-1747479600-1747490400@eastcontracostahistory.org
SUMMARY:Donner Parlor of Native Daughters of Golden West Tour/Visit
DESCRIPTION:
URL:https://eastcontracostahistory.org/event/donner-parlor-of-native-daughters-of-golden-west-tour/
CATEGORIES:Board
END:VEVENT
BEGIN:VEVENT
DTSTART;TZID=America/Los_Angeles:20250519T080000
DTEND;TZID=America/Los_Angeles:20250519T140000
DTSTAMP:20260419T124111
CREATED:20250501T131058Z
LAST-MODIFIED:20250501T131058Z
UID:3206-1747641600-1747663200@eastcontracostahistory.org
SUMMARY:Third Grade Program
DESCRIPTION:
URL:https://eastcontracostahistory.org/event/third-grade-program-26/
LOCATION:Grounds
CATEGORIES:Board
END:VEVENT
BEGIN:VEVENT
DTSTART;TZID=America/Los_Angeles:20250522T080000
DTEND;TZID=America/Los_Angeles:20250522T140000
DTSTAMP:20260419T124111
CREATED:20250501T131129Z
LAST-MODIFIED:20250501T131129Z
UID:3208-1747900800-1747922400@eastcontracostahistory.org
SUMMARY:Third Grade Program
DESCRIPTION:
URL:https://eastcontracostahistory.org/event/third-grade-program-27/
LOCATION:Grounds
CATEGORIES:Board
END:VEVENT
BEGIN:VEVENT
DTSTART;TZID=America/Los_Angeles:20250524T100000
DTEND;TZID=America/Los_Angeles:20250524T140000
DTSTAMP:20260419T124111
CREATED:20250319T134127Z
LAST-MODIFIED:20250401T032619Z
UID:2903-1748080800-1748095200@eastcontracostahistory.org
SUMMARY:Museum Open
DESCRIPTION:Plan your visit
URL:https://eastcontracostahistory.org/event/museum-open-7/
LOCATION:Museum
CATEGORIES:Board,Community
ATTACH;FMTTYPE=image/jpeg:https://eastcontracostahistory.org/wp-content/uploads/2022/01/NailHouse_2007.jpg
END:VEVENT
BEGIN:VEVENT
DTSTART;TZID=America/Los_Angeles:20250524T100000
DTEND;TZID=America/Los_Angeles:20250524T140000
DTSTAMP:20260419T124111
CREATED:20250410T121306Z
LAST-MODIFIED:20250410T134443Z
UID:3087-1748080800-1748095200@eastcontracostahistory.org
SUMMARY:PEO Tour/Visit
DESCRIPTION:PEO Club to tour museum.  Sharon Johnson will lead.
URL:https://eastcontracostahistory.org/event/peo-tour-visit/
CATEGORIES:Board
END:VEVENT
BEGIN:VEVENT
DTSTART;TZID=America/Los_Angeles:20250527T080000
DTEND;TZID=America/Los_Angeles:20250527T140000
DTSTAMP:20260419T124111
CREATED:20250501T131206Z
LAST-MODIFIED:20250501T131206Z
UID:3210-1748332800-1748354400@eastcontracostahistory.org
SUMMARY:Third Grade Program
DESCRIPTION:
URL:https://eastcontracostahistory.org/event/third-grade-program-28/
LOCATION:Grounds
CATEGORIES:Board
END:VEVENT
BEGIN:VEVENT
DTSTART;TZID=America/Los_Angeles:20250527T173000
DTEND;TZID=America/Los_Angeles:20250527T193000
DTSTAMP:20260419T124111
CREATED:20250409T133247Z
LAST-MODIFIED:20250409T133247Z
UID:3084-1748367000-1748374200@eastcontracostahistory.org
SUMMARY:Discovery Bay Chamber Mixer
DESCRIPTION:DB Chamber of Commerce to host mixer at museum. \n25-30 people \nTables under Pole Barn \nAccess to grounds\, house\, RC\, school\, Homers to explore museum.  Docents to welcome.
URL:https://eastcontracostahistory.org/event/discovery-bay-chamber-mixer/
CATEGORIES:Board
END:VEVENT
BEGIN:VEVENT
DTSTART;TZID=America/Los_Angeles:20250528T100000
DTEND;TZID=America/Los_Angeles:20250528T120000
DTSTAMP:20260419T124111
CREATED:20250508T095441Z
LAST-MODIFIED:20250508T095441Z
UID:3247-1748426400-1748433600@eastcontracostahistory.org
SUMMARY:Exec Board Meeting
DESCRIPTION:
URL:https://eastcontracostahistory.org/event/exec-board-meeting/
LOCATION:Resource Center
CATEGORIES:Board
END:VEVENT
BEGIN:VEVENT
DTSTART;TZID=America/Los_Angeles:20250529T080000
DTEND;TZID=America/Los_Angeles:20250529T140000
DTSTAMP:20260419T124111
CREATED:20250501T131232Z
LAST-MODIFIED:20250501T131232Z
UID:3212-1748505600-1748527200@eastcontracostahistory.org
SUMMARY:Third Grade Program
DESCRIPTION:
URL:https://eastcontracostahistory.org/event/third-grade-program-29/
LOCATION:Grounds
CATEGORIES:Board
END:VEVENT
BEGIN:VEVENT
DTSTART;TZID=America/Los_Angeles:20250530T080000
DTEND;TZID=America/Los_Angeles:20250530T140000
DTSTAMP:20260419T124111
CREATED:20250501T131302Z
LAST-MODIFIED:20250501T131302Z
UID:3214-1748592000-1748613600@eastcontracostahistory.org
SUMMARY:Third Grade Program
DESCRIPTION:
URL:https://eastcontracostahistory.org/event/third-grade-program-30/
LOCATION:Grounds
CATEGORIES:Board
END:VEVENT
BEGIN:VEVENT
DTSTART;TZID=America/Los_Angeles:20250531T100000
DTEND;TZID=America/Los_Angeles:20250531T140000
DTSTAMP:20260419T124111
CREATED:20250319T134229Z
LAST-MODIFIED:20250401T032630Z
UID:2905-1748685600-1748700000@eastcontracostahistory.org
SUMMARY:Museum Open
DESCRIPTION:Plan your visit
URL:https://eastcontracostahistory.org/event/museum-open-8/
LOCATION:Museum
CATEGORIES:Board,Community
ATTACH;FMTTYPE=image/jpeg:https://eastcontracostahistory.org/wp-content/uploads/2022/01/NailHouse_2007.jpg
END:VEVENT
BEGIN:VEVENT
DTSTART;TZID=America/Los_Angeles:20250604T090000
DTEND;TZID=America/Los_Angeles:20250604T130000
DTSTAMP:20260419T124111
CREATED:20250507T120427Z
LAST-MODIFIED:20250507T120427Z
UID:3225-1749027600-1749042000@eastcontracostahistory.org
SUMMARY:Board Planning Session
DESCRIPTION:
URL:https://eastcontracostahistory.org/event/board-planning-session-3/
LOCATION:Resource Center
CATEGORIES:Board
END:VEVENT
BEGIN:VEVENT
DTSTART;TZID=America/Los_Angeles:20250607T100000
DTEND;TZID=America/Los_Angeles:20250607T140000
DTSTAMP:20260419T124111
CREATED:20250319T134333Z
LAST-MODIFIED:20250401T032641Z
UID:2907-1749290400-1749304800@eastcontracostahistory.org
SUMMARY:Museum Open
DESCRIPTION:Plan your visit
URL:https://eastcontracostahistory.org/event/museum-open-9/
LOCATION:Museum
CATEGORIES:Board,Community
ATTACH;FMTTYPE=image/jpeg:https://eastcontracostahistory.org/wp-content/uploads/2022/01/NailHouse_2007.jpg
END:VEVENT
BEGIN:VEVENT
DTSTART;TZID=America/Los_Angeles:20250614T090000
DTEND;TZID=America/Los_Angeles:20250614T120000
DTSTAMP:20260419T124111
CREATED:20250614T134214Z
LAST-MODIFIED:20250614T134214Z
UID:3310-1749891600-1749902400@eastcontracostahistory.org
SUMMARY:Car Show SetUp
DESCRIPTION:
URL:https://eastcontracostahistory.org/event/car-show-setup/
CATEGORIES:Board
END:VEVENT
BEGIN:VEVENT
DTSTART;TZID=America/Los_Angeles:20250614T100000
DTEND;TZID=America/Los_Angeles:20250614T140000
DTSTAMP:20260419T124111
CREATED:20250319T134408Z
LAST-MODIFIED:20250401T032649Z
UID:2909-1749895200-1749909600@eastcontracostahistory.org
SUMMARY:Museum Open
DESCRIPTION:Plan your visit
URL:https://eastcontracostahistory.org/event/museum-open-10/
LOCATION:Museum
CATEGORIES:Board,Community
ATTACH;FMTTYPE=image/jpeg:https://eastcontracostahistory.org/wp-content/uploads/2022/01/NailHouse_2007.jpg
END:VEVENT
BEGIN:VEVENT
DTSTART;TZID=America/Los_Angeles:20250615T100000
DTEND;TZID=America/Los_Angeles:20250615T140000
DTSTAMP:20260419T124111
CREATED:20250319T134543Z
LAST-MODIFIED:20250401T032659Z
UID:2911-1749981600-1749996000@eastcontracostahistory.org
SUMMARY:Museum Open
DESCRIPTION:Plan your visit
URL:https://eastcontracostahistory.org/event/museum-open-11/
LOCATION:Museum
CATEGORIES:Board,Community
ATTACH;FMTTYPE=image/jpeg:https://eastcontracostahistory.org/wp-content/uploads/2022/01/NailHouse_2007.jpg
END:VEVENT
BEGIN:VEVENT
DTSTART;TZID=America/Los_Angeles:20250617T080000
DTEND;TZID=America/Los_Angeles:20250617T170000
DTSTAMP:20260419T124111
CREATED:20250507T120536Z
LAST-MODIFIED:20250507T120536Z
UID:3227-1750147200-1750179600@eastcontracostahistory.org
SUMMARY:Exhibit Teams to SJ History Park
DESCRIPTION:Members of Exhibit Teams for property expansion to visit San Jose History Park
URL:https://eastcontracostahistory.org/event/exhibit-teams-to-sj-history-park/
CATEGORIES:Board
END:VEVENT
BEGIN:VEVENT
DTSTART;TZID=America/Los_Angeles:20250621T090000
DTEND;TZID=America/Los_Angeles:20250621T120000
DTSTAMP:20260419T124111
CREATED:20250614T134129Z
LAST-MODIFIED:20250614T134129Z
UID:3308-1750496400-1750507200@eastcontracostahistory.org
SUMMARY:CleanUp Day
DESCRIPTION:
URL:https://eastcontracostahistory.org/event/cleanup-day/
LOCATION:Museum
CATEGORIES:Board
END:VEVENT
BEGIN:VEVENT
DTSTART;TZID=America/Los_Angeles:20250621T100000
DTEND;TZID=America/Los_Angeles:20250621T140000
DTSTAMP:20260419T124111
CREATED:20250319T140709Z
LAST-MODIFIED:20250401T032706Z
UID:2913-1750500000-1750514400@eastcontracostahistory.org
SUMMARY:Museum Open
DESCRIPTION:Plan your visit
URL:https://eastcontracostahistory.org/event/museum-open-12/
LOCATION:Museum
CATEGORIES:Board,Community
ATTACH;FMTTYPE=image/jpeg:https://eastcontracostahistory.org/wp-content/uploads/2022/01/NailHouse_2007.jpg
END:VEVENT
BEGIN:VEVENT
DTSTART;TZID=America/Los_Angeles:20250623T173000
DTEND;TZID=America/Los_Angeles:20250623T200000
DTSTAMP:20260419T124111
CREATED:20250423T213401Z
LAST-MODIFIED:20250507T120637Z
UID:3171-1750699800-1750708800@eastcontracostahistory.org
SUMMARY:DIG Potluck
DESCRIPTION:
URL:https://eastcontracostahistory.org/event/dig/
CATEGORIES:Board
END:VEVENT
BEGIN:VEVENT
DTSTART;TZID=America/Los_Angeles:20250625T100000
DTEND;TZID=America/Los_Angeles:20250625T120000
DTSTAMP:20260419T124111
CREATED:20250605T220440Z
LAST-MODIFIED:20250605T220440Z
UID:3284-1750845600-1750852800@eastcontracostahistory.org
SUMMARY:Exec Board Meeting
DESCRIPTION:
URL:https://eastcontracostahistory.org/event/exec-board-meeting-2/
LOCATION:Resource Center
CATEGORIES:Board
END:VEVENT
BEGIN:VEVENT
DTSTART;TZID=America/Los_Angeles:20250628T080000
DTEND;TZID=America/Los_Angeles:20250628T160000
DTSTAMP:20260419T124111
CREATED:20250702T145944Z
LAST-MODIFIED:20250702T145944Z
UID:3512-1751097600-1751126400@eastcontracostahistory.org
SUMMARY:Oakley Summer Fest
DESCRIPTION:Come see ECCHS at Oakley Summer Fest! \nSpin the wheel and win a prize!
URL:https://eastcontracostahistory.org/event/oakley-summer-fest/
LOCATION:Community
CATEGORIES:Board,Community
END:VEVENT
BEGIN:VEVENT
DTSTART;TZID=America/Los_Angeles:20250628T100000
DTEND;TZID=America/Los_Angeles:20250628T140000
DTSTAMP:20260419T124111
CREATED:20250319T141216Z
LAST-MODIFIED:20250401T032713Z
UID:2915-1751104800-1751119200@eastcontracostahistory.org
SUMMARY:Museum Open
DESCRIPTION:Plan your visit
URL:https://eastcontracostahistory.org/event/museum-open-13/
LOCATION:Museum
CATEGORIES:Board,Community
ATTACH;FMTTYPE=image/jpeg:https://eastcontracostahistory.org/wp-content/uploads/2022/01/NailHouse_2007.jpg
END:VEVENT
BEGIN:VEVENT
DTSTART;TZID=America/Los_Angeles:20250628T100000
DTEND;TZID=America/Los_Angeles:20250628T160000
DTSTAMP:20260419T124111
CREATED:20250401T154045Z
LAST-MODIFIED:20250401T155159Z
UID:3067-1751104800-1751126400@eastcontracostahistory.org
SUMMARY:Cruisin' through History  Car Show
DESCRIPTION:A Car Show…….plus!\nMarvel at classic cars and explore museum displays that evoke memories.\nFamily outdoor games\, food trucks\, vendors\, music.  \nAward categories:  Pre-1930’s\, 1930’s\, 1940’s                                                                          1950’s\, Best of Tri 5’s\, 1960’s\, 1970’s
URL:https://eastcontracostahistory.org/event/cruisin-through-history-car-show/
LOCATION:Museum
CATEGORIES:Board,Community
ATTACH;FMTTYPE=image/png:https://eastcontracostahistory.org/wp-content/uploads/2025/04/car_show1-1.png
END:VEVENT
BEGIN:VEVENT
DTSTART;TZID=America/Los_Angeles:20250702T100000
DTEND;TZID=America/Los_Angeles:20250702T120000
DTSTAMP:20260419T124111
CREATED:20250618T232047Z
LAST-MODIFIED:20250618T232047Z
UID:3425-1751450400-1751457600@eastcontracostahistory.org
SUMMARY:Board Meeting
DESCRIPTION:
URL:https://eastcontracostahistory.org/event/board-meeting-2/
LOCATION:Resource Center
CATEGORIES:Board
END:VEVENT
BEGIN:VEVENT
DTSTART;TZID=America/Los_Angeles:20250704T093000
DTEND;TZID=America/Los_Angeles:20250704T100000
DTSTAMP:20260419T124111
CREATED:20250702T145734Z
LAST-MODIFIED:20250702T145734Z
UID:3510-1751621400-1751623200@eastcontracostahistory.org
SUMMARY:Brentwood July 4th Parade
DESCRIPTION:Wave at ECCHS in Brentwood’s July 4th parade!
URL:https://eastcontracostahistory.org/event/brentwood-july-4th-parade/
LOCATION:Community
CATEGORIES:Board,Community
END:VEVENT
BEGIN:VEVENT
DTSTART;TZID=America/Los_Angeles:20250705T100000
DTEND;TZID=America/Los_Angeles:20250705T140000
DTSTAMP:20260419T124111
CREATED:20250319T150442Z
LAST-MODIFIED:20250401T032720Z
UID:2921-1751709600-1751724000@eastcontracostahistory.org
SUMMARY:Museum Open
DESCRIPTION:Plan your visit
URL:https://eastcontracostahistory.org/event/museum-open-14/
LOCATION:Museum
CATEGORIES:Board,Community
ATTACH;FMTTYPE=image/jpeg:https://eastcontracostahistory.org/wp-content/uploads/2022/01/NailHouse_2007.jpg
END:VEVENT
BEGIN:VEVENT
DTSTART;TZID=America/Los_Angeles:20250705T140000
DTEND;TZID=America/Los_Angeles:20250705T230000
DTSTAMP:20260419T124111
CREATED:20250605T220012Z
LAST-MODIFIED:20250605T220012Z
UID:3275-1751724000-1751756400@eastcontracostahistory.org
SUMMARY:Private Event - Wedding
DESCRIPTION:Martinez Wedding \n2-3 Set up \n6-11 Wedding & reception
URL:https://eastcontracostahistory.org/event/private-event-wedding/
LOCATION:Grounds
CATEGORIES:Board
END:VEVENT
BEGIN:VEVENT
DTSTART;TZID=America/Los_Angeles:20250707T090000
DTEND;TZID=America/Los_Angeles:20250707T220000
DTSTAMP:20260419T124111
CREATED:20250612T113751Z
LAST-MODIFIED:20250624T170409Z
UID:3299-1751878800-1751925600@eastcontracostahistory.org
SUMMARY:BBQ Planning Mtg
DESCRIPTION:Joe\, Shirley\, Dennis\, Mary  Tony? \nPlanning for 1st committee meeting
URL:https://eastcontracostahistory.org/event/bbq-planning-mtg/
LOCATION:Resource Center
CATEGORIES:Board
END:VEVENT
END:VCALENDAR