BEGIN:VCALENDAR
VERSION:2.0
PRODID:-//East Contra Costa Historical Society - ECPv6.15.20//NONSGML v1.0//EN
CALSCALE:GREGORIAN
METHOD:PUBLISH
X-WR-CALNAME:East Contra Costa Historical Society
X-ORIGINAL-URL:https://eastcontracostahistory.org
X-WR-CALDESC:Events for East Contra Costa Historical Society
REFRESH-INTERVAL;VALUE=DURATION:PT1H
X-Robots-Tag:noindex
X-PUBLISHED-TTL:PT1H
BEGIN:VTIMEZONE
TZID:America/Los_Angeles
BEGIN:DAYLIGHT
TZOFFSETFROM:-0800
TZOFFSETTO:-0700
TZNAME:PDT
DTSTART:20240310T100000
END:DAYLIGHT
BEGIN:STANDARD
TZOFFSETFROM:-0700
TZOFFSETTO:-0800
TZNAME:PST
DTSTART:20241103T090000
END:STANDARD
BEGIN:DAYLIGHT
TZOFFSETFROM:-0800
TZOFFSETTO:-0700
TZNAME:PDT
DTSTART:20250309T100000
END:DAYLIGHT
BEGIN:STANDARD
TZOFFSETFROM:-0700
TZOFFSETTO:-0800
TZNAME:PST
DTSTART:20251102T090000
END:STANDARD
BEGIN:DAYLIGHT
TZOFFSETFROM:-0800
TZOFFSETTO:-0700
TZNAME:PDT
DTSTART:20260308T100000
END:DAYLIGHT
BEGIN:STANDARD
TZOFFSETFROM:-0700
TZOFFSETTO:-0800
TZNAME:PST
DTSTART:20261101T090000
END:STANDARD
END:VTIMEZONE
BEGIN:VEVENT
DTSTART;TZID=America/Los_Angeles:20250417T080000
DTEND;TZID=America/Los_Angeles:20250417T140000
DTSTAMP:20260419T073204
CREATED:20250401T030621Z
LAST-MODIFIED:20250401T030621Z
UID:3053-1744876800-1744898400@eastcontracostahistory.org
SUMMARY:Third Grade Program
DESCRIPTION:
URL:https://eastcontracostahistory.org/event/third-grade-program-12/
CATEGORIES:Board
END:VEVENT
BEGIN:VEVENT
DTSTART;TZID=America/Los_Angeles:20250417T130000
DTEND;TZID=America/Los_Angeles:20250417T150000
DTSTAMP:20260419T073204
CREATED:20250415T143707Z
LAST-MODIFIED:20250415T143707Z
UID:3141-1744894800-1744902000@eastcontracostahistory.org
SUMMARY:Exhibit Team Leads Mtg
DESCRIPTION:Meeting at Mary’s house
URL:https://eastcontracostahistory.org/event/exhibit-team-leads-mtg/
CATEGORIES:Board
END:VEVENT
END:VCALENDAR